BEGIN:VCALENDAR
VERSION:2.0
PRODID:-//pretix//pretix.eu//
BEGIN:VTIMEZONE
TZID:Europe/Berlin
BEGIN:STANDARD
DTSTART:20001029T040000
RRULE:FREQ=YEARLY;BYDAY=-1SU;BYMONTH=10
TZNAME:CET
TZOFFSETFROM:+0200
TZOFFSETTO:+0100
END:STANDARD
BEGIN:DAYLIGHT
DTSTART:20000326T030000
RRULE:FREQ=YEARLY;BYDAY=-1SU;BYMONTH=3
TZNAME:CEST
TZOFFSETFROM:+0100
TZOFFSETTO:+0200
END:DAYLIGHT
END:VTIMEZONE
BEGIN:VEVENT
UID:pretix-fza-Sportinfotreff-0@veranstaltungen.freiwilligen-zentrum-augsbu
 rg.de
DTSTART;TZID=Europe/Berlin:20260504T180000
DTEND;TZID=Europe/Berlin:20260504T203000
DESCRIPTION:Tickets: https://veranstaltungen.freiwilligen-zentrum-augsburg.
 de/Sportinfotreff/\nEinlass: 04.05.2026 17:45\nVeranstalter: Freiwilligenz
 entrum Augsburg
DTSTAMP:20260421T101405Z
LOCATION:Freiwilligen Zentrum Augsburg\, Mittlerer Lech 5\, 86150 Augsburg
SUMMARY:Infoveranstaltung Sport
END:VEVENT
END:VCALENDAR
